BEGIN:VCALENDAR
VERSION:2.0
METHOD:PUBLISH
PRODID:-//Open Society Foundations//Events//EN
BEGIN:VEVENT
DTSTART:20210203T140000Z
DTEND:20210203T150000Z
DTSTAMP:20201217T161130Z
ORGANIZER;CN=Open Society Foundations:MAILTO:contact@opensocietyfoundations.org
SUMMARY:A Human Rights Guide for Researching Racial and Religious Discrimination in Counterterrorism in Europe
UID:69e75a5345b25
STATUS:CONFIRMED
LAST-MODIFIED:20210201T203652Z
LOCATION:Live Stream
DESCRIPTION:This event marks the launch of a guide for human rights and antiracism activists, researchers, NGOs, and oversight bodies documenting and proving discrimination in the counterterrorism context in Europe.\n\nhttps://www.opensocietyfoundations.org/events/a-human-rights-guide-for-researching-racial-and-religious-discrimination-in-counterterrorism-in-europe

BEGIN:VALARM
TRIGGER:-PT15M
ACTION:DISPLAY
END:VALARM
END:VEVENT
END:VCALENDAR
